BEGIN:VCALENDAR
VERSION:2.0
PRODID:-//Circle Pines Center - ECPv6.15.20//NONSGML v1.0//EN
CALSCALE:GREGORIAN
METHOD:PUBLISH
X-ORIGINAL-URL:https://circlepinescenter.org
X-WR-CALDESC:Events for Circle Pines Center
REFRESH-INTERVAL;VALUE=DURATION:PT1H
X-Robots-Tag:noindex
X-PUBLISHED-TTL:PT1H
BEGIN:VTIMEZONE
TZID:America/Detroit
BEGIN:DAYLIGHT
TZOFFSETFROM:-0500
TZOFFSETTO:-0400
TZNAME:EDT
DTSTART:20230312T070000
END:DAYLIGHT
BEGIN:STANDARD
TZOFFSETFROM:-0400
TZOFFSETTO:-0500
TZNAME:EST
DTSTART:20231105T060000
END:STANDARD
BEGIN:DAYLIGHT
TZOFFSETFROM:-0500
TZOFFSETTO:-0400
TZNAME:EDT
DTSTART:20240310T070000
END:DAYLIGHT
BEGIN:STANDARD
TZOFFSETFROM:-0400
TZOFFSETTO:-0500
TZNAME:EST
DTSTART:20241103T060000
END:STANDARD
BEGIN:DAYLIGHT
TZOFFSETFROM:-0500
TZOFFSETTO:-0400
TZNAME:EDT
DTSTART:20250309T070000
END:DAYLIGHT
BEGIN:STANDARD
TZOFFSETFROM:-0400
TZOFFSETTO:-0500
TZNAME:EST
DTSTART:20251102T060000
END:STANDARD
END:VTIMEZONE
BEGIN:VEVENT
DTSTART;TZID=America/Detroit:20241208T160000
DTEND;TZID=America/Detroit:20241208T190000
DTSTAMP:20260420T130735
CREATED:20241121T193944Z
LAST-MODIFIED:20241121T193944Z
UID:9886-1733673600-1733684400@circlepinescenter.org
SUMMARY:Holiday Party (Grand Rapids)
DESCRIPTION:Bring a dish to share and join other Circle Piners for this annual holiday celebration in the Grand Rapids area .
URL:https://circlepinescenter.org/event/holiday-party-grand-rapids/
LOCATION:Erika Tellez’s\, 1422 Crystalaire Ct SE\, Caledonia\, MI\, 49316\, United States
CATEGORIES:Holiday
ATTACH;FMTTYPE=image/jpeg:https://circlepinescenter.org/wp-content/uploads/2024/11/party.jpg
END:VEVENT
END:VCALENDAR