BEGIN:VCALENDAR
VERSION:2.0
PRODID:-//Circle Pines Center - ECPv6.15.20//NONSGML v1.0//EN
CALSCALE:GREGORIAN
METHOD:PUBLISH
X-WR-CALNAME:Circle Pines Center
X-ORIGINAL-URL:https://circlepinescenter.org
X-WR-CALDESC:Events for Circle Pines Center
REFRESH-INTERVAL;VALUE=DURATION:PT1H
X-Robots-Tag:noindex
X-PUBLISHED-TTL:PT1H
BEGIN:VTIMEZONE
TZID:America/Detroit
BEGIN:DAYLIGHT
TZOFFSETFROM:-0500
TZOFFSETTO:-0400
TZNAME:EDT
DTSTART:20210314T070000
END:DAYLIGHT
BEGIN:STANDARD
TZOFFSETFROM:-0400
TZOFFSETTO:-0500
TZNAME:EST
DTSTART:20211107T060000
END:STANDARD
BEGIN:DAYLIGHT
TZOFFSETFROM:-0500
TZOFFSETTO:-0400
TZNAME:EDT
DTSTART:20220313T070000
END:DAYLIGHT
BEGIN:STANDARD
TZOFFSETFROM:-0400
TZOFFSETTO:-0500
TZNAME:EST
DTSTART:20221106T060000
END:STANDARD
BEGIN:DAYLIGHT
TZOFFSETFROM:-0500
TZOFFSETTO:-0400
TZNAME:EDT
DTSTART:20230312T070000
END:DAYLIGHT
BEGIN:STANDARD
TZOFFSETFROM:-0400
TZOFFSETTO:-0500
TZNAME:EST
DTSTART:20231105T060000
END:STANDARD
END:VTIMEZONE
BEGIN:VEVENT
DTSTART;TZID=America/Detroit:20221218T160000
DTEND;TZID=America/Detroit:20221218T190000
DTSTAMP:20260424T123135
CREATED:20221204T022050Z
LAST-MODIFIED:20221204T023153Z
UID:8225-1671379200-1671390000@circlepinescenter.org
SUMMARY:Grand Rapids-Area Holiday Party
DESCRIPTION:Bring a dish to share and instruments if you like.\nPossible Dreydl\, Frida Loteria and Posada singing.\nContact Kathy Siegenthaler\, with questions and to RSVP: siegiesk@gmail.com
URL:https://circlepinescenter.org/event/grand-rapids-holiday-party/
LOCATION:Carlos & Sara’s\, 1048 M.L.K. Jr St SE\, Grand Rapids\, MI\, 49507\, United States
ATTACH;FMTTYPE=image/jpeg:https://circlepinescenter.org/wp-content/uploads/2022/12/CS.jpg
END:VEVENT
END:VCALENDAR